BEGIN:VCALENDAR
VERSION:2.0
PRODID:-//Eventin//Event Calendar//EN
CALSCALE:GREGORIAN
METHOD:PUBLISH
BEGIN:VEVENT
UID:18724a58cf478259e01f0ebc6c972a48@agenda.obidos.pt
SUMMARY:ÓBIDOS\, 1148 TERRA DE MOUROS E CRISTÃOS
DESCRIPTION:Esta atividade propõe uma viagem pela história do Castelo de 
 Óbidos\, desde a sua origens mouriscas até à reconquista cristã\, no s
 éculo XII\, abordando simultaneamente a herança cultural deixada pelos mu
 çulmanos na região. Através da análise da arquitetura\, da gastronomia\
 , da toponímia\, do vocabulário e da numeração de origem árabe\, os pa
 rticipantes exploram a influência mourisca na identidade local. A experiê
 ncia é enriquecida com atividades pedagógicas e criativas\, como jogos de
  palavras\, painéis informativos e a reprodução artística de indumentá
 ria da época\, promovendo uma aprendizagem dinâmica e interdisciplinar.\n
 Escolas: 2° ciclo-máx. 1 turmaPúblico: Famílias com crianças a partir 
 dos 3 anosDuração: 60 minutosInscrições: servico.educativo@cm-obidos.pt
  CDI -Centro de Design de InterioresSegunda a sexta-feiraHorário:09:30 as
  13:00 e das 14:00 as 17:30Morada: Rua do Facho ( junto à Torre do Fach
 o)
LOCATION:CDI - Centro de Design de Interiores
DTSTAMP:20260420T120827Z
DTSTART:20260101T093000Z
DTEND:20260731T163000Z
END:VEVENT
END:VCALENDAR
