BEGIN:VCALENDAR
VERSION:2.0
PRODID:-//Eventin//Event Calendar//EN
CALSCALE:GREGORIAN
METHOD:PUBLISH
BEGIN:VEVENT
UID:88c1d3b272a6e672cf56799786dea12d@agenda.obidos.pt
SUMMARY:LER NUNCA ESTÁ LONGE
DESCRIPTION:Destinada ao público geral\, esta iniciativa é pensada em ses
 sões individuais ao domicílio ou pelo telefone\, respeitando os interesse
 s de cada participante. Mais do que ler\, esta iniciativa cria momentos pr
 óximos\, de escuta e partilha\, combatendo o isolamento e reforçando a li
 gação à comunidade. As leituras decorrem na 1a e 3a quarta-feira de cada
  mês e carecem de inscrição prévia.Público: Geral (t. 262 955 547)Dura
 ção: 30 minutosInscrições: servico.educativo@cm-obidos.pt \n 
LOCATION:Concelho Óbidos
DTSTAMP:20260421T081654Z
DTSTART:20260101T090000Z
DTEND:20260731T160000Z
END:VEVENT
END:VCALENDAR
