BEGIN:VCALENDAR
VERSION:2.0
PRODID:-//Eventin//Event Calendar//EN
CALSCALE:GREGORIAN
METHOD:PUBLISH
BEGIN:VEVENT
UID:479179cc5f5975ebf6a2bb57b4be2901@agenda.obidos.pt
SUMMARY:UM POSTAL PARA RECORDAR\, SOBRE ÓBIDOS
DESCRIPTION:Esta atividade apresenta o trabalho do artista Abílio de Matto
 s e Silva\, destacando a sua colaboração com os CTT\, a TAP e a valoriza
 ção do folclore português. A partir do tema das viagens e da escrita\, r
 eflete-se sobre o postal como meio de comunicação cultural\, incentivando
  os participantes a criar um postal inspirado nas ruas\, monumentos e eleme
 ntos identitários de Óbidos.Escolas: 1º ciclo ao secundário - máx. 1 t
 urmaPúblico: Famílias com crianças a partir dos 3 anosDuração: 60 minu
 tosInscrições: servico.educativo@cm-obidos.pt CDI -Centro de Design de I
 nterioresSegunda a sexta-feiraHorário:09:30 as 13:00 e das 14:00 as 17:3
 0Morada: Rua do Facho ( junto à Torre do Facho)
LOCATION:CDI - Centro de Design de Interiores
DTSTAMP:20260420T115100Z
DTSTART:20260101T093000Z
DTEND:20260731T163000Z
END:VEVENT
END:VCALENDAR
