BEGIN:VCALENDAR
VERSION:2.0
PRODID:-//Eventin//Event Calendar//EN
CALSCALE:GREGORIAN
METHOD:PUBLISH
BEGIN:VEVENT
UID:8ef0a6188623d466f842623660aed223@agenda.obidos.pt
SUMMARY:LUGARES IMAGINÁRIOS
DESCRIPTION:Inspirada na obra “O Dicionário de Lugares Imaginários”\,
  de Alberto Manguel\, esta oficina convida os participantes a embarcar numa
  viagem por territórios que existem apenas na Literatura e na Imaginação
 . A partir da leitura de excertos selecionados\, são explorados mundos fan
 tásticos\, cidades inventadas e geografias impossiveis\, revelando como os
  livros constroem espaços tão reais quanto aqueles que habitamos.Escolas:
  Grupos do 2o e 3o ciclo-máx. 1 turmaPúblico: SéniorDuração: 1hInscri
 ções: servico.educativo@cm-obidos.pt Biblioteca Municipal - Casa José S
 aramagoSegunda a sexta-feira10h00 - 18h00R. Direita 107\, Óbidos
LOCATION:Biblioteca Municipal
DTSTAMP:20260421T094333Z
DTSTART:20260101T100000Z
DTEND:20260731T170000Z
END:VEVENT
END:VCALENDAR
