BEGIN:VCALENDAR
VERSION:2.0
PRODID:-//Eventin//Event Calendar//EN
CALSCALE:GREGORIAN
METHOD:PUBLISH
BEGIN:VEVENT
UID:339a3e4bc68b8cfa731c9b1717bd7ad1@agenda.obidos.pt
SUMMARY:UM BANQUETE COM JOSEFA D’ÓBIDOS
DESCRIPTION:Partindo das obras de naturezas mortas da artista\, pintora\, J
 osefa d’Óbidos\, vamos desafiar os participantes a criar um Banquete Rea
 l de forma criativa\, utilizando objetos e seres inanimados como é caracte
 rístico deste estilo. Uma oficina que explora a alimentação e a natureza
  através da arte.Escolas: 1°\, 2° e 3° ciclo-máx. 1 turmaDuração: 45
  minutosInscrições: servico.educativo@cm-obidos.pt Museu MunicipalTerça
 -feira a domingo9h30 - 13h0014h00 - 17h30R. Direita 97\, Óbidos\n 
LOCATION:Museu Municipal
DTSTAMP:20260420T114935Z
DTSTART:20260101T093000Z
DTEND:20260731T163000Z
END:VEVENT
END:VCALENDAR
