BEGIN:VCALENDAR
VERSION:2.0
PRODID:-//Eventin//Event Calendar//EN
CALSCALE:GREGORIAN
METHOD:PUBLISH
BEGIN:VEVENT
UID:13bffd4c7f706fdbbc47c88f186ce825@agenda.obidos.pt
SUMMARY:Festa em Honra de Santa Luzia
DESCRIPTION:
LOCATION:Usseira\, Óbidos
DTSTAMP:20260420T151534Z
DTSTART:20261212T150000Z
DTEND:20261213T235900Z
END:VEVENT
END:VCALENDAR
