BEGIN:VCALENDAR
VERSION:2.0
PRODID:-//Eventin//Event Calendar//EN
CALSCALE:GREGORIAN
METHOD:PUBLISH
BEGIN:VEVENT
UID:eb22c72ca8d7b33f48c884f4e04743db@agenda.obidos.pt
SUMMARY:Feira de Santa Iria
DESCRIPTION:
LOCATION:Óbidos
DTSTAMP:20260420T120857Z
DTSTART:20261020T140000Z
DTEND:20261020T225900Z
END:VEVENT
END:VCALENDAR
