BEGIN:VCALENDAR
VERSION:2.0
PRODID:-//Eventin//Event Calendar//EN
CALSCALE:GREGORIAN
METHOD:PUBLISH
BEGIN:VEVENT
UID:2a1510f9c6912a503529305bd2f91dc7@agenda.obidos.pt
SUMMARY:Festa do Imaculado Coração de Maria
DESCRIPTION:
LOCATION:Olho Marinho\, Óbidos
DTSTAMP:20260420T115321Z
DTSTART:20260829T140000Z
DTEND:20260830T225900Z
END:VEVENT
END:VCALENDAR
