BEGIN:VCALENDAR
VERSION:2.0
PRODID:-//Eventin//Event Calendar//EN
CALSCALE:GREGORIAN
METHOD:PUBLISH
BEGIN:VEVENT
UID:77b57ad56eeca53c84d3573943ef1983@agenda.obidos.pt
SUMMARY:Festa em Honra de Nª Sra. do Bom Sucesso
DESCRIPTION:
LOCATION:Vau\, Óbidos
DTSTAMP:20260421T095505Z
DTSTART:20260816T140000Z
DTEND:20260816T225900Z
END:VEVENT
END:VCALENDAR
