BEGIN:VCALENDAR
VERSION:2.0
PRODID:-//Eventin//Event Calendar//EN
CALSCALE:GREGORIAN
METHOD:PUBLISH
BEGIN:VEVENT
UID:21a562a72cfb3032b8109ef49073bdc9@agenda.obidos.pt
SUMMARY:Festa em Honra de Nª Sra. da Assunção
DESCRIPTION:
LOCATION:Areirinha\, Óbidos
DTSTAMP:20260420T114610Z
DTSTART:20260815T140000Z
DTEND:20260815T225900Z
END:VEVENT
END:VCALENDAR
