BEGIN:VCALENDAR
VERSION:2.0
PRODID:-//Eventin//Event Calendar//EN
CALSCALE:GREGORIAN
METHOD:PUBLISH
BEGIN:VEVENT
UID:fe956de3b194dd36ff3826a57ecd7355@agenda.obidos.pt
SUMMARY:Festa de Santa Maria Madalena
DESCRIPTION:
LOCATION:A-dos-Negros\, Óbidos
DTSTAMP:20260420T112906Z
DTSTART:20260717T140000Z
DTEND:20260723T225900Z
END:VEVENT
END:VCALENDAR
