BEGIN:VCALENDAR
VERSION:2.0
PRODID:-//Eventin//Event Calendar//EN
CALSCALE:GREGORIAN
METHOD:PUBLISH
BEGIN:VEVENT
UID:cc4a96dd2124109dc625c4486c01c6f8@agenda.obidos.pt
SUMMARY:Festa em Honra de Santo António
DESCRIPTION:
LOCATION:Capeleira\, Óbidos
DTSTAMP:20260420T114312Z
DTSTART:20260704T140000Z
DTEND:20260705T225900Z
END:VEVENT
END:VCALENDAR
