BEGIN:VCALENDAR
VERSION:2.0
PRODID:-//Eventin//Event Calendar//EN
CALSCALE:GREGORIAN
METHOD:PUBLISH
BEGIN:VEVENT
UID:a3566e03a0c94de9f1c6a7b3891d49f9@agenda.obidos.pt
SUMMARY:Festival da Ginja
DESCRIPTION:
LOCATION:Amoreira\, Óbidos
DTSTAMP:20260420T122344Z
DTSTART:20260626T140000Z
DTEND:20260628T225900Z
END:VEVENT
END:VCALENDAR
