BEGIN:VCALENDAR
VERSION:2.0
PRODID:-//Eventin//Event Calendar//EN
CALSCALE:GREGORIAN
METHOD:PUBLISH
BEGIN:VEVENT
UID:b2836efe498b3efebff0a1525b1f5667@agenda.obidos.pt
SUMMARY:Festa em Honra de Santo António
DESCRIPTION:
LOCATION:Quinta do Carvalhedo\, Óbidos
DTSTAMP:20260420T115018Z
DTSTART:20260612T140000Z
DTEND:20260614T225900Z
END:VEVENT
END:VCALENDAR
