BEGIN:VCALENDAR
VERSION:2.0
PRODID:-//Eventin//Event Calendar//EN
CALSCALE:GREGORIAN
METHOD:PUBLISH
BEGIN:VEVENT
UID:7066a2ddc6dc8e5d7c0241b26948ef79@agenda.obidos.pt
SUMMARY:Festa em Honra de Santo António
DESCRIPTION:
LOCATION:A-da-Gorda\, Óbidos
DTSTAMP:20260420T114628Z
DTSTART:20260613T140000Z
DTEND:20260613T225900Z
END:VEVENT
END:VCALENDAR
