BEGIN:VCALENDAR
VERSION:2.0
PRODID:-//Eventin//Event Calendar//EN
CALSCALE:GREGORIAN
METHOD:PUBLISH
BEGIN:VEVENT
UID:e0ab2e3b12547ad9ccc8b23204f9280f@agenda.obidos.pt
SUMMARY:AS CORES DO ECOPONTO: UMA VIAGEM MUSICAL PELA RECICLAGEM
DESCRIPTION:Com a ajuda das personagens do livro “O Planeta Limpo do Fili
 pe Pinto”\, os alunos embarcam numa viagem divertida pelo mundo da recicl
 agem. A atividade arranca com a hora do conto e a música “Mundo a Recicl
 ar”\, servindo de mote para um desafio prático: colocar “as mãos na m
 assa” e aprender a separar corretamente resíduos reais nos ecopontos Azu
 l\, Amarelo\, Verde e Vermelho.Escolas: JI até 1° ciclo-máx. 1 turmaDura
 ção: 45 minutosInscrições: servico.educativo@cm-obidos.pt 
LOCATION:A definir
DTSTAMP:20260420T152917Z
DTSTART:20260101T100000Z
DTEND:20260731T170000Z
END:VEVENT
END:VCALENDAR
