BEGIN:VCALENDAR
VERSION:2.0
PRODID:-//Eventin//Event Calendar//EN
CALSCALE:GREGORIAN
METHOD:PUBLISH
BEGIN:VEVENT
UID:5b73d50a83a00743d49bb033b2d948f4@agenda.obidos.pt
SUMMARY:À DESCOBERTA DOS ODS: LITERATURA E SUSTENTABILIDADE
DESCRIPTION:Nesta oficina\, os alunos mergulham nos 17 Objetivos de Desenvo
 lvimento Sustentável através das estantes da biblioteca. O desafio é sim
 ples mas poderoso: em grupo\, os alunos têm de investigar e descobrir qual
  o livro infanto-juvenil que melhor ilustra o ODS que decidiram explorar.Es
 colas: 1° ciclo até Ensino Secundário - máx. 1 turmaDuração: 60 minut
 osInscrições: servico.educativo@cm-obidos.pt Biblioteca Municipal - Casa
  José SaramagoSegunda a sexta-feira10h00 - 18h00R. Direita 107\, Óbidos
LOCATION:Biblioteca Municipal
DTSTAMP:20260421T081319Z
DTSTART:20260101T100000Z
DTEND:20260731T170000Z
END:VEVENT
END:VCALENDAR
