BEGIN:VCALENDAR
VERSION:2.0
PRODID:-//Eventin//Event Calendar//EN
CALSCALE:GREGORIAN
METHOD:PUBLISH
BEGIN:VEVENT
UID:9465733e0546d3b02691b11fc9cacf52@agenda.obidos.pt
SUMMARY:ENTRE MUROS E MEMÓRIAS: VISITA AO CONVENTO DE SÃO MIGUEL
DESCRIPTION:A visita guiada ao Convento de São Miguel inicia-se com um enq
 uadramento histórico que permite compreender a origem e a importância des
 te espaço ao longo do tempo. Segue-se um percurso pelas diferentes salas d
 o convento\, orientado de forma dinâmica e interativa\, incentivando a par
 ticipação e diálogo\, bem como a observação dos seus elementos arquite
 tónicos\, históricos e simbólicos.Público: Geral\, máx. 30 pessoasDura
 ção: 45 minutosInscrições: servico.educativo@cm-obidos.pt Convento de 
 São MiguelSegunda a sexta-feira9h30 - 13h00 e 14h00 - 17h30R. Vale da Hort
 a 5\, Gaeiras
LOCATION:Convento de São Miguel
DTSTAMP:20260420T120140Z
DTSTART:20260101T093000Z
DTEND:20260731T163000Z
END:VEVENT
END:VCALENDAR
