BEGIN:VCALENDAR
VERSION:2.0
PRODID:-//Eventin//Event Calendar//EN
CALSCALE:GREGORIAN
METHOD:PUBLISH
BEGIN:VEVENT
UID:34c829b352e96492953c9665b3a226ba@agenda.obidos.pt
SUMMARY:Festa em Honra de São Sebastião
DESCRIPTION:
LOCATION:Sobral da Lagoa\, Óbidos
DTSTAMP:20260420T114522Z
DTSTART:20260507T140000Z
DTEND:20260510T225900Z
END:VEVENT
END:VCALENDAR
