BEGIN:VCALENDAR
VERSION:2.0
PRODID:-//Eventin//Event Calendar//EN
CALSCALE:GREGORIAN
METHOD:PUBLISH
BEGIN:VEVENT
UID:aec589eecce1345a51d838512b2cf0c2@agenda.obidos.pt
SUMMARY:ATELIÊ DE RISCADORES
DESCRIPTION:Através da exploração e de construção com diversos materia
 is reciclados\, o desafio é que sejam construidos pincéis/ riscadores. El
 es podem ser feitos de qualquer coisa ou qualquer forma\, apenas tem de pre
 encher um requisito: quando molhados na tinta consigam produzir algum tipo 
 de risco ou mancha na superficie escolhida\, que neste caso é o papel.Esco
 las: JI\, 1° ciclo-máx. 1 turma\, Centros EducativosPúblico: Famílias c
 om crianças 3 a 10 anosDuração: 45 minutosInscrições: servico.educativ
 o@cm-obidos.pt Espaço MyMachineSegunda a sexta-feira9h00 - 13h00 e 14h00 
 - 17h00Largo São João de Deus\, Óbidos
LOCATION:Espaço MyMachine
DTSTAMP:20260420T114610Z
DTSTART:20260101T090000Z
DTEND:20260731T160000Z
END:VEVENT
END:VCALENDAR
