BEGIN:VCALENDAR
VERSION:2.0
PRODID:-//Eventin//Event Calendar//EN
CALSCALE:GREGORIAN
METHOD:PUBLISH
BEGIN:VEVENT
UID:5f29d107413f1857a5948cea35c7fdea@agenda.obidos.pt
SUMMARY:VEM DESENHAR E CONSTRUIR A TUA MÁQUINA DE SONHO
DESCRIPTION:Tendo o projeto MyMachine como partida\, os participantes serã
 o desafiados a desenhar e construir máquinas de sonho.Com recurso a uma me
 todologia de 3 etapas (ideia - design - construção)\, vamos colocar mãos
  à obra para prototipar as invenções.Escolas: 1º e 2º ciclo\, Máx. 1 
 turma\, Centros EducativosPúblico: Famílias com crianças 5 a 12 anosDura
 ção: 2 horasInscrições: servico.educativo@cm-obidos.pt Espaço MyMachi
 neSegunda a sexta-feira9h00 - 13h00 e 14h00 - 17h00Largo São João de Deus
 \, Óbidos
LOCATION:Espaço MyMachine
DTSTAMP:20260421T094142Z
DTSTART:20260101T090000Z
DTEND:20260731T160000Z
END:VEVENT
END:VCALENDAR
