BEGIN:VCALENDAR
VERSION:2.0
PRODID:-//Eventin//Event Calendar//EN
CALSCALE:GREGORIAN
METHOD:PUBLISH
BEGIN:VEVENT
UID:ee2427a1e355057d8327a08e8671dea1@agenda.obidos.pt
SUMMARY:Festival Toupeiro
DESCRIPTION:Um espaço de criação e experimentação\, acolhendo proposta
 s artísticas que desafiam formatos e aproximam o público de novas linguag
 ens. Com uma programação que pode incluir música\, performance\, artes v
 isuais ou cruzamentos disciplinares\, o festival valoriza a surpresa e a de
 scoberta\, reforçando Óbidos como território aberto à contemporaneidade
  e à curiosidadecultural.
LOCATION:Vila de Óbidos
DTSTAMP:20260420T114912Z
DTSTART:20260801T070000Z
DTEND:20260830T160000Z
END:VEVENT
END:VCALENDAR
