BEGIN:VCALENDAR
VERSION:2.0
PRODID:-//Eventin//Event Calendar//EN
CALSCALE:GREGORIAN
METHOD:PUBLISH
BEGIN:VEVENT
UID:5da868236042de7207d0cd5ee0f156c5@agenda.obidos.pt
SUMMARY:Óbidos Villa das Rainhas
DESCRIPTION:Destaca a história e tradição da vila com animação inspira
 da nas rainhas de Portugal.Óbidos Villa das Rainhas evoca a ligação hist
 órica da vila às rainhas de Portugal\, propondo um programa que cruza pat
 rimónio\, identidade e celebração. Através de iniciativas culturais\, p
 ercursos e momentos simbólicos\, o evento convida a revisitar histórias e
  lugares marcados por essa herança\, oferecendo ao público uma experiênc
 ia que combina memória\, orgulho local e fruição do território.
LOCATION:Vila de Óbidos
DTSTAMP:20260421T093840Z
DTSTART:20260801T090000Z
DTEND:20260831T180000Z
END:VEVENT
END:VCALENDAR
