BEGIN:VCALENDAR
VERSION:2.0
PRODID:-//Eventin//Event Calendar//EN
CALSCALE:GREGORIAN
METHOD:PUBLISH
BEGIN:VEVENT
UID:aa5f6d0d1d0f349df9a64e935a2d0264@agenda.obidos.pt
SUMMARY:SIPO – Semana Internacional de Piano de Óbidos
DESCRIPTION:A Semana Internacional do Piano de Óbidos é um encontro de re
 ferência dedicado ao repertório pianístico\, reunindo concertos\, recita
 is e momentos formativos que aproximam artistas e públicos. Entre clássic
 os e abordagens contemporâneas\, a programação valoriza a excelência in
 terpretativa e a experiência de escuta\, colocando Óbidos no mapa dos eve
 ntos musicais que celebram a beleza e a exigência do piano.
LOCATION:Auditório Municipal da Casa da Música
DTSTAMP:20260420T114628Z
DTSTART:20260726T160000Z
DTEND:20260804T200000Z
END:VEVENT
END:VCALENDAR
