BEGIN:VCALENDAR
VERSION:2.0
PRODID:-//Eventin//Event Calendar//EN
CALSCALE:GREGORIAN
METHOD:PUBLISH
BEGIN:VEVENT
UID:a2638beb2ca1702e7ab4833ac5ef5311@agenda.obidos.pt
SUMMARY:Festival Óbidos + Ativo
DESCRIPTION:O Óbidos + Ativo é um festival que promove saúde\, bem-estar
  e atividade física\, com propostas acessíveis e inclusivas para todas as
  idades. Através de aulas abertas\, caminhadas\, desafios e ações de sen
 sibilização\, o evento incentiva estilos de vida equilibrados e o convív
 io ao ar livre\, valorizando o espaço público e a energia coletiva como m
 otores de participação.
LOCATION:Complexo Desportivo
DTSTAMP:20260420T120441Z
DTSTART:20260528T080000Z
DTEND:20260531T160000Z
END:VEVENT
END:VCALENDAR
