BEGIN:VCALENDAR
VERSION:2.0
PRODID:-//Eventin//Event Calendar//EN
CALSCALE:GREGORIAN
METHOD:PUBLISH
BEGIN:VEVENT
UID:9853c95a253bc416e23520f72f38a3f5@agenda.obidos.pt
SUMMARY:Óbidos Vila Natal
DESCRIPTION:Óbidos Vila Natal convida a viver o espírito da época com um
  programa pensado para famílias\, onde a vila se transforma num cenário d
 e luz\, fantasia e celebração. Com animação\, atividades infantis\, exp
 eriências temáticas e momentos de convívio\, o evento cria uma atmosfera
  acolhedora que une tradição e imaginação\, tornando Óbidos um destino
  especial no calendário de inverno.
LOCATION:Cerca do Castelo
DTSTAMP:20260420T114349Z
DTSTART:20261127T100000Z
DTEND:20270103T200000Z
END:VEVENT
END:VCALENDAR
